BEGIN:VCALENDAR
VERSION:2.0
PRODID:-// - ECPv6.3.1//NONSGML v1.0//EN
CALSCALE:GREGORIAN
METHOD:PUBLISH
X-ORIGINAL-URL:http://cottinghamnews.co.uk
X-WR-CALDESC:Events for 
REFRESH-INTERVAL;VALUE=DURATION:PT1H
X-Robots-Tag:noindex
X-PUBLISHED-TTL:PT1H
BEGIN:VTIMEZONE
TZID:UTC
BEGIN:STANDARD
TZOFFSETFROM:+0000
TZOFFSETTO:+0000
TZNAME:UTC
DTSTART:20240101T000000
END:STANDARD
END:VTIMEZONE
BEGIN:VEVENT
DTSTART;TZID=UTC:20240706T193000
DTEND;TZID=UTC:20240706T223000
DTSTAMP:20260421T133744
CREATED:20240518T105404Z
LAST-MODIFIED:20240606T122137Z
UID:6802-1720294200-1720305000@cottinghamnews.co.uk
SUMMARY:80s Music Party
DESCRIPTION:An evening of 1980s music delivered to your ears by DJs Chris and Tom. \nOver 18s only. \nPlenty of pop hits from the likes of The Cure\, The Specials\, New Order\, Pet Shop Boys\, Madonna\, Erasure – you get the idea! \nAs we are in a cost of living crisis\, it’s bring your own booze. Please also bring your own plastic cups/bottle openers and a happy disposition! \nWe cannot wait! \nTickets are £8.80 in advance (includes 80p booking fee charged by WeGotTickets) and £10 on the door. \nTo book your ticket\, visit https://www.wegottickets.com/event/621640/
URL:http://cottinghamnews.co.uk/event/80s-music-party/
LOCATION:Cottingham and Middleton Village Hall\, Berryfield Road\, Cottingham\, Market Harborough\, Leicestershire\, LE16 8XY\, United Kingdom
ATTACH;FMTTYPE=image/jpeg:http://cottinghamnews.co.uk/wp-content/uploads/2024/05/80s-music-party.jpeg
END:VEVENT
BEGIN:VEVENT
DTSTART;VALUE=DATE:20240713
DTEND;VALUE=DATE:20240714
DTSTAMP:20260421T133744
CREATED:20240127T140434Z
LAST-MODIFIED:20240530T110703Z
UID:6632-1720828800-1720915199@cottinghamnews.co.uk
SUMMARY:Village Summer Fete
DESCRIPTION:Fete guide advertising\nPlanning for the Village Fete on 13 July is well underway\, including preparation of the fete guide\, which is printed in June and delivered to every house in Cottingham\, Middleton\, Rockingham and East Carlton. \nThe guide also includes lots of adverts from local businesses to help cover the cost. If you run your own business or work for a firm you think would be happy to advertise in our guide\, a full page advert costs £80 and half pages are £45. If you’d like to book a slot\, please contact Rachel Faulkner as soon as possible on 07584 212067\, email rachelaraj@gmail.com. Help can be offered with your advert artwork\, if needed. \nVolunteers and donations\nThe organisers are also looking for volunteers to help with set up and breakdown on the Friday and Sunday\, and to help run stalls on the Saturday of the fete. \nThey’d also appreciate donations of craft items for the Made in the Villages stall plus plants\, home made preserves\, home brew\, wines\, gins etc (please incude a llist of ingredients for home made produce). \nIf you can help\, please contact Sian Coughlan on email sian_coughlan@hotmail.com\, mobile 07774 852478.
URL:http://cottinghamnews.co.uk/event/fete2024/
LOCATION:Recreation Field\, Berryfield Road\, Cottingham\, United Kingdom
ATTACH;FMTTYPE=image/png:http://cottinghamnews.co.uk/wp-content/uploads/2024/01/Village-fete-poster-2024.png
END:VEVENT
BEGIN:VEVENT
DTSTART;TZID=UTC:20240720T110000
DTEND;TZID=UTC:20240720T183000
DTSTAMP:20260421T133744
CREATED:20240618T161548Z
LAST-MODIFIED:20240618T161814Z
UID:6905-1721473200-1721500200@cottinghamnews.co.uk
SUMMARY:VO Polo classic car day
DESCRIPTION:Do come and watch some great polo and a lovely selection of cars on 20th July! \nBring a picnic. There’s an outside bar too. \nAdvance tickets at https://www.tickettailor.com/events/vopolo/1194295 or payable on the gate.
URL:http://cottinghamnews.co.uk/event/vo-polo-classic-car-day/
LOCATION:VO Polo Club\, Ashley Road\, Middleton\, Market Harborough\, United Kingdom
ATTACH;FMTTYPE=image/jpeg:http://cottinghamnews.co.uk/wp-content/uploads/2024/06/VO-Polo-classic-car-2024.jpg
ORGANIZER;CN="Cassandra":MAILTO:info@vopoloclub.com
END:VEVENT
BEGIN:VEVENT
DTSTART;TZID=UTC:20240720T183000
DTEND;TZID=UTC:20240720T223000
DTSTAMP:20260421T133744
CREATED:20240528T170638Z
LAST-MODIFIED:20240716T214634Z
UID:6814-1721500200-1721514600@cottinghamnews.co.uk
SUMMARY:Simply Floyd
DESCRIPTION:For tickets\, contact Pete Bowman on petebowman397@gmail.com\, mobile 07768 808036. \nTo find out more about the band\, visit facebook.com/simplyfloydband \n 
URL:http://cottinghamnews.co.uk/event/simply-floyd/
LOCATION:Cottingham and Middleton Village Hall\, Berryfield Road\, Cottingham\, Market Harborough\, Leicestershire\, LE16 8XY\, United Kingdom
ATTACH;FMTTYPE=image/jpeg:http://cottinghamnews.co.uk/wp-content/uploads/2024/05/Simply-Floyd-poster-A4-border.jpg
ORGANIZER;CN="Pete Bowman":MAILTO:petebowman397@gmail.com
END:VEVENT
END:VCALENDAR