BEGIN:VCALENDAR
VERSION:2.0
PRODID:-// - ECPv6.3.1//NONSGML v1.0//EN
CALSCALE:GREGORIAN
METHOD:PUBLISH
X-ORIGINAL-URL:http://cottinghamnews.co.uk
X-WR-CALDESC:Events for 
REFRESH-INTERVAL;VALUE=DURATION:PT1H
X-Robots-Tag:noindex
X-PUBLISHED-TTL:PT1H
BEGIN:VTIMEZONE
TZID:UTC
BEGIN:STANDARD
TZOFFSETFROM:+0000
TZOFFSETTO:+0000
TZNAME:UTC
DTSTART:20240101T000000
END:STANDARD
END:VTIMEZONE
BEGIN:VEVENT
DTSTART;TZID=UTC:20240602T140000
DTEND;TZID=UTC:20240602T170000
DTSTAMP:20260421T152614
CREATED:20240529T191759Z
LAST-MODIFIED:20240529T200254Z
UID:6825-1717336800-1717347600@cottinghamnews.co.uk
SUMMARY:Full peal\, St Mary Magdalene
DESCRIPTION:A group of bell ringers have challenged themselves to ring a peal at all the 5-bell towers (i.e. towers with 5 bells) in the Peterborough Diocese\, during its centenary year. \nThese 5-bell towers are not rung so often\, and they will be visiting Cottingham on June 2nd. Ringing will commence at 2pm and the peal is expected to last around three hours. \nWhen rung on 7 bells\, a peal is a non-stop sequence of a minimum of 5\,000 changes\, where each sequence is different and cannot be repeated. On 5 bells\, which is what we have at Cottingham\, the maximum number of permutations (different orders) is 120\, so there is some duplication in the sequences\, but the bells are still rung for three hours to make the full peal. It is the bell ringers’ equivalent of a marathon\, requiring concentration and stamina to complete.
URL:http://cottinghamnews.co.uk/event/full-peal/
LOCATION:St Mary Magdalene Church\, Church Street\, Cottingham\, LE16 8XU\, United Kingdom
ATTACH;FMTTYPE=image/jpeg:http://cottinghamnews.co.uk/wp-content/uploads/2023/12/cottingham-bells-2-scaled.jpg
END:VEVENT
BEGIN:VEVENT
DTSTART;TZID=UTC:20240606T201500
DTEND;TZID=UTC:20240606T201500
DTSTAMP:20260421T152614
CREATED:20240518T110511Z
LAST-MODIFIED:20240518T110620Z
UID:6806-1717704900-1717704900@cottinghamnews.co.uk
SUMMARY:D Day Commemorations
DESCRIPTION:Do come and join us at the top field along the Jurassic Way footpath from Cottingham to Middleton. This is the same field where we lit the Platinum Jubilee Beacon. \nPlease gather from 8.15pm for the D-Day 80th year International Tribute and Beacon Lighting\, which will take place at 9.15pm. \nThe bells will be rung from St Mary Magdalene Church\, Cottingham at 6.30pm. \nLook forward to seeing you there.
URL:http://cottinghamnews.co.uk/event/d-day-80/
LOCATION:Jurassic Way field\, On footpath from Cottingham to Middleton
ATTACH;FMTTYPE=image/jpeg:http://cottinghamnews.co.uk/wp-content/uploads/2024/05/D-Day-80-header.jpg
END:VEVENT
BEGIN:VEVENT
DTSTART;TZID=UTC:20240630T153000
DTEND;TZID=UTC:20240630T170000
DTSTAMP:20260421T152614
CREATED:20240327T181819Z
LAST-MODIFIED:20240923T105312Z
UID:6744-1719761400-1719766800@cottinghamnews.co.uk
SUMMARY:24 Carat Jazz\, St Mary Magdalene Church
DESCRIPTION:24 Carat Jazz is delighted to be performing a one hour Sunday afternoon concert at St Mary Magdalene Church. \nFeaturing Jane Smith on vocals and tenor sax\, John Deane on piano and Kevin Griffiths on double bass\, this popular trio plays easy listening jazz and swing favourites from the likes of Ella Fitzgerald\, George Gershwin\, Cole Porter and Frank Sinatra\, to name but a few. \nTickets are £10 each to include a glass of fizz and canapés. \nPlease get your ticket in advance so we know how many to cater for. Contact Joanne Leaning on 07776 261647\, email joanne.leaning@btinternet.com \nAll profits will go to the Cottingham Church Clock Restoration Fund. Initial investigations by clock professionals have shown that a working clock is within our grasp\, so please do keep supporting our fundraising events so we can make this happen \nFizz and canapés will be served from 3.30pm and the music will start at 4pm. The perfect way to spend a laid back Sunday afternoon! \n 
URL:http://cottinghamnews.co.uk/event/24c-sunday-sessions/
LOCATION:St Mary Magdalene Church\, Church Street\, Cottingham\, LE16 8XU\, United Kingdom
ATTACH;FMTTYPE=image/png:http://cottinghamnews.co.uk/wp-content/uploads/2018/01/24c-logo-new.png
ORGANIZER;CN="Joanne Leaning":MAILTO:joanne.leaning@btinternet.com
END:VEVENT
END:VCALENDAR