BEGIN:VCALENDAR
VERSION:2.0
PRODID:-// - ECPv6.3.1//NONSGML v1.0//EN
CALSCALE:GREGORIAN
METHOD:PUBLISH
X-ORIGINAL-URL:http://cottinghamnews.co.uk
X-WR-CALDESC:Events for 
REFRESH-INTERVAL;VALUE=DURATION:PT1H
X-Robots-Tag:noindex
X-PUBLISHED-TTL:PT1H
BEGIN:VTIMEZONE
TZID:UTC
BEGIN:STANDARD
TZOFFSETFROM:+0000
TZOFFSETTO:+0000
TZNAME:UTC
DTSTART:20240101T000000
END:STANDARD
END:VTIMEZONE
BEGIN:VEVENT
DTSTART;TZID=UTC:20240511T190000
DTEND;TZID=UTC:20240511T210000
DTSTAMP:20260421T170104
CREATED:20240410T082754Z
LAST-MODIFIED:20240413T162017Z
UID:6770-1715454000-1715461200@cottinghamnews.co.uk
SUMMARY:The show must go on
DESCRIPTION:The money raised from this event will be split between the Warm Space\, that takes place at the Village Hall Annex every Wednesday\, and Cottingham FrOGS (Friends of Green Spaces).
URL:http://cottinghamnews.co.uk/event/the-show-must-go-on/
LOCATION:Cottingham and Middleton Village Hall\, Berryfield Road\, Cottingham\, Market Harborough\, Leicestershire\, LE16 8XY\, United Kingdom
ORGANIZER;CN="George West-Robinson":MAILTO:george@themillhub.co.uk
END:VEVENT
END:VCALENDAR