BEGIN:VCALENDAR
VERSION:2.0
PRODID:-// - ECPv6.3.1//NONSGML v1.0//EN
CALSCALE:GREGORIAN
METHOD:PUBLISH
X-ORIGINAL-URL:http://cottinghamnews.co.uk
X-WR-CALDESC:Events for 
REFRESH-INTERVAL;VALUE=DURATION:PT1H
X-Robots-Tag:noindex
X-PUBLISHED-TTL:PT1H
BEGIN:VTIMEZONE
TZID:UTC
BEGIN:STANDARD
TZOFFSETFROM:+0000
TZOFFSETTO:+0000
TZNAME:UTC
DTSTART:20240101T000000
END:STANDARD
END:VTIMEZONE
BEGIN:VEVENT
DTSTART;TZID=UTC:20240308T080000
DTEND;TZID=UTC:20240309T130000
DTSTAMP:20260423T110813
CREATED:20240224T121654Z
LAST-MODIFIED:20240224T123621Z
UID:6701-1709884800-1709989200@cottinghamnews.co.uk
SUMMARY:Downsizing sale
DESCRIPTION:The Village Store and Cafe is hosting a downsizing sale in their upstairs room from 8am to 1pm on Friday 8 and Saturday 9 March. \nThere’ll be a variety of quality goods on sale including ornaments\, kitchen equipment\, DVDs\, clothing and general bric-a-brac\, that has mainly been donated by a villager following a recent house move. Don’t miss this opportunity to grab yourself a bargain! \nAll profits from the downsizing sale will go to the St Mary Magdalene Church clock restoration fund. The Church is initially looking to raise £600 to pay a specialist to come out and look at the clock\, and see what needs to be done to get it going again. \nIf you have any queries\, please contact Mary Knott on email marypknott@hotmail.co.uk\, mobile 07852 922372.
URL:http://cottinghamnews.co.uk/event/downsizing-sale/
LOCATION:Cottingham and Middleton Village Store and Cafe\, 2 Corby Road\, Cottingham\, Market Harborough\, Leicestershire\, LE16 8XH\, United Kingdom
ATTACH;FMTTYPE=image/jpeg:http://cottinghamnews.co.uk/wp-content/uploads/2024/02/Downsizing-sale.jpg
ORGANIZER;CN="Mary Knott":MAILTO:marypknott@hotmail.co.uk
END:VEVENT
BEGIN:VEVENT
DTSTART;TZID=UTC:20240316T103000
DTEND;TZID=UTC:20240316T130000
DTSTAMP:20260423T110813
CREATED:20240224T182208Z
LAST-MODIFIED:20240224T182449Z
UID:6712-1710585000-1710594000@cottinghamnews.co.uk
SUMMARY:Community tree planting
DESCRIPTION:Cottingham Parish Council will soon take delivery of 315 free trees\, that they applied for last year from the Woodland Trust. \n\n\n\nThe Friends of Green Spaces (FroGS) group of volunteers are holding a community planting event on the morning of Saturday 16th March and they’d like to invite villagers to join them to get the trees planted at the top end of the Dale. \n\n\n\nPlease come along with families\, friends\, refreshments and\, if possible\, a spade. The FroGS will guide and instruct as to what is to be planted where\, and how\, on the day. They’ll be installing fence posts beforehand and attaching wire fencing to the posts after the trees have been planted. \n\n\n\nAs well as wanting to get the trees in the ground as soon as possible\, FroGS also want to ensure that the project is complete before the cattle come back into The Dale on 1st April. \n\n\n\nWe really hope that as many of you as can make it will turn up\, plant some trees\, have fun and\, of course\, take any resulting litter (human and canine) away afterwards. \n\n\n\nYours sincerely\, Cottingham FroGS
URL:http://cottinghamnews.co.uk/event/tree-planting/
LOCATION:The Dale
ATTACH;FMTTYPE=image/jpeg:http://cottinghamnews.co.uk/wp-content/uploads/2020/03/Dale2-2.jpg
ORGANIZER;CN="George West-Robinson":MAILTO:george@themillhub.co.uk
END:VEVENT
BEGIN:VEVENT
DTSTART;TZID=UTC:20240323T190000
DTEND;TZID=UTC:20240323T230000
DTSTAMP:20260423T110813
CREATED:20240127T134710Z
LAST-MODIFIED:20240127T135527Z
UID:6623-1711220400-1711234800@cottinghamnews.co.uk
SUMMARY:Wine tasting - Routes of the Orient Express
DESCRIPTION:It’s All Aboard for our next village wine tasting event\, which will follow the Routes of the Orient Express. \nTickets are £25 each to include six wines and nibbles associated with the countries we visit… expect some surprises along the way! \nThe event takes place at the Cottingham and Middleton Village Hall Annex on Berryfield Road\, and all profits will go to the Mill Community Hub project. \nFor tickets\, please contact Jan Robertson on 07770 372345\, email janathome246@gmail.com \nThese events are very popular and it’s first come\, first served\, so please book early to avoid disappointment\, Tickets are non-refundable. \nPlease bring two glasses with you – one for white wine\, and one for red. \nWe look forward to welcoming you aboard. Cin Cin 🍾 !
URL:http://cottinghamnews.co.uk/event/wine-orient-express/
LOCATION:Cottingham and Middleton Village Hall\, Berryfield Road\, Cottingham\, Market Harborough\, Leicestershire\, LE16 8XY\, United Kingdom
ATTACH;FMTTYPE=image/webp:http://cottinghamnews.co.uk/wp-content/uploads/2024/01/Orient-express-wine.webp
ORGANIZER;CN="Jan Robertson":MAILTO:janathome246@gmail.com
END:VEVENT
END:VCALENDAR