BEGIN:VCALENDAR
VERSION:2.0
PRODID:-// - ECPv6.3.1//NONSGML v1.0//EN
CALSCALE:GREGORIAN
METHOD:PUBLISH
X-ORIGINAL-URL:http://cottinghamnews.co.uk
X-WR-CALDESC:Events for 
REFRESH-INTERVAL;VALUE=DURATION:PT1H
X-Robots-Tag:noindex
X-PUBLISHED-TTL:PT1H
BEGIN:VTIMEZONE
TZID:UTC
BEGIN:STANDARD
TZOFFSETFROM:+0000
TZOFFSETTO:+0000
TZNAME:UTC
DTSTART:20240101T000000
END:STANDARD
END:VTIMEZONE
BEGIN:VEVENT
DTSTART;TZID=UTC:20240706T193000
DTEND;TZID=UTC:20240706T223000
DTSTAMP:20260421T151203
CREATED:20240518T105404Z
LAST-MODIFIED:20240606T122137Z
UID:6802-1720294200-1720305000@cottinghamnews.co.uk
SUMMARY:80s Music Party
DESCRIPTION:An evening of 1980s music delivered to your ears by DJs Chris and Tom. \nOver 18s only. \nPlenty of pop hits from the likes of The Cure\, The Specials\, New Order\, Pet Shop Boys\, Madonna\, Erasure – you get the idea! \nAs we are in a cost of living crisis\, it’s bring your own booze. Please also bring your own plastic cups/bottle openers and a happy disposition! \nWe cannot wait! \nTickets are £8.80 in advance (includes 80p booking fee charged by WeGotTickets) and £10 on the door. \nTo book your ticket\, visit https://www.wegottickets.com/event/621640/
URL:http://cottinghamnews.co.uk/event/80s-music-party/
LOCATION:Cottingham and Middleton Village Hall\, Berryfield Road\, Cottingham\, Market Harborough\, Leicestershire\, LE16 8XY\, United Kingdom
ATTACH;FMTTYPE=image/jpeg:http://cottinghamnews.co.uk/wp-content/uploads/2024/05/80s-music-party.jpeg
END:VEVENT
END:VCALENDAR