BEGIN:VCALENDAR
VERSION:2.0
PRODID:-// - ECPv6.3.1//NONSGML v1.0//EN
CALSCALE:GREGORIAN
METHOD:PUBLISH
X-ORIGINAL-URL:http://cottinghamnews.co.uk
X-WR-CALDESC:Events for 
REFRESH-INTERVAL;VALUE=DURATION:PT1H
X-Robots-Tag:noindex
X-PUBLISHED-TTL:PT1H
BEGIN:VTIMEZONE
TZID:UTC
BEGIN:STANDARD
TZOFFSETFROM:+0000
TZOFFSETTO:+0000
TZNAME:UTC
DTSTART:20240101T000000
END:STANDARD
END:VTIMEZONE
BEGIN:VEVENT
DTSTART;TZID=UTC:20240606T201500
DTEND;TZID=UTC:20240606T201500
DTSTAMP:20260421T170001
CREATED:20240518T110511Z
LAST-MODIFIED:20240518T110620Z
UID:6806-1717704900-1717704900@cottinghamnews.co.uk
SUMMARY:D Day Commemorations
DESCRIPTION:Do come and join us at the top field along the Jurassic Way footpath from Cottingham to Middleton. This is the same field where we lit the Platinum Jubilee Beacon. \nPlease gather from 8.15pm for the D-Day 80th year International Tribute and Beacon Lighting\, which will take place at 9.15pm. \nThe bells will be rung from St Mary Magdalene Church\, Cottingham at 6.30pm. \nLook forward to seeing you there.
URL:http://cottinghamnews.co.uk/event/d-day-80/
LOCATION:Jurassic Way field\, On footpath from Cottingham to Middleton
ATTACH;FMTTYPE=image/jpeg:http://cottinghamnews.co.uk/wp-content/uploads/2024/05/D-Day-80-header.jpg
END:VEVENT
END:VCALENDAR