BEGIN:VCALENDAR
VERSION:2.0
PRODID:-// - ECPv6.3.1//NONSGML v1.0//EN
CALSCALE:GREGORIAN
METHOD:PUBLISH
X-ORIGINAL-URL:http://cottinghamnews.co.uk
X-WR-CALDESC:Events for 
REFRESH-INTERVAL;VALUE=DURATION:PT1H
X-Robots-Tag:noindex
X-PUBLISHED-TTL:PT1H
BEGIN:VTIMEZONE
TZID:UTC
BEGIN:STANDARD
TZOFFSETFROM:+0000
TZOFFSETTO:+0000
TZNAME:UTC
DTSTART:20240101T000000
END:STANDARD
END:VTIMEZONE
BEGIN:VEVENT
DTSTART;TZID=UTC:20240427T110000
DTEND;TZID=UTC:20240427T140000
DTSTAMP:20260423T110746
CREATED:20240228T085016Z
LAST-MODIFIED:20240409T080254Z
UID:6724-1714215600-1714226400@cottinghamnews.co.uk
SUMMARY:Vintage sale
DESCRIPTION:Sale of crafts\, preloved household items and quality clothing in aid of The Mill Community Hub Project. There will be refreshments available.  \nIf you have any quality saleable clothing\, household goods or anything else you’d like to donate\, please contact Joanne on 07776 261647\, email joanne.leaning@btinternet.com
URL:http://cottinghamnews.co.uk/event/vintage/
LOCATION:Cottingham and Middleton Village Hall\, Berryfield Road\, Cottingham\, Market Harborough\, Leicestershire\, LE16 8XY\, United Kingdom
ATTACH;FMTTYPE=image/jpeg:http://cottinghamnews.co.uk/wp-content/uploads/2024/02/Bric-a-brac-2.jpg
END:VEVENT
END:VCALENDAR